BEGIN:VCALENDAR
VERSION:2.0
PRODID:-//Grupo Esparrama - ECPv6.15.13//NONSGML v1.0//EN
CALSCALE:GREGORIAN
METHOD:PUBLISH
X-ORIGINAL-URL:https://grupoesparrama.com.br
X-WR-CALDESC:Eventos para Grupo Esparrama
REFRESH-INTERVAL;VALUE=DURATION:PT1H
X-Robots-Tag:noindex
X-PUBLISHED-TTL:PT1H
BEGIN:VTIMEZONE
TZID:America/Sao_Paulo
BEGIN:STANDARD
TZOFFSETFROM:-0300
TZOFFSETTO:-0300
TZNAME:-03
DTSTART:20240101T000000
END:STANDARD
END:VTIMEZONE
BEGIN:VEVENT
DTSTART;TZID=America/Sao_Paulo:20250927T173000
DTEND;TZID=America/Sao_Paulo:20250927T183000
DTSTAMP:20260423T150708
CREATED:20251001T220446Z
LAST-MODIFIED:20251001T220446Z
UID:2029-1758994200-1758997800@grupoesparrama.com.br
SUMMARY:FIM?
DESCRIPTION:Sesc Bom Retiro\nO mundo acabou e sobraram apenas dois palhaços que tentam plantar a última semente de esperança\, mas são atrapalhados por duas divertidas baratas. Será o fim?
URL:https://grupoesparrama.com.br/agenda/fim/
END:VEVENT
BEGIN:VEVENT
DTSTART;TZID=America/Sao_Paulo:20250925T133000
DTEND;TZID=America/Sao_Paulo:20250925T143000
DTSTAMP:20260423T150708
CREATED:20251001T220421Z
LAST-MODIFIED:20251001T220421Z
UID:2027-1758807000-1758810600@grupoesparrama.com.br
SUMMARY:Detetives do Espavô
DESCRIPTION:3º Festival A Gente que Fez\nO Grupo Esparrama e a Trupe DuNavô tem a honra de participar desse festival no qual a curadoria é feita pelas próprias crianças.
URL:https://grupoesparrama.com.br/agenda/detetives-do-espavo-2/
END:VEVENT
BEGIN:VEVENT
DTSTART;TZID=America/Sao_Paulo:20250925T093000
DTEND;TZID=America/Sao_Paulo:20250925T103000
DTSTAMP:20260423T150708
CREATED:20251001T220358Z
LAST-MODIFIED:20251001T220358Z
UID:2025-1758792600-1758796200@grupoesparrama.com.br
SUMMARY:Detetives do Espavô
DESCRIPTION:3º Festival A Gente que Fez\nO Grupo Esparrama e a Trupe DuNavô tem a honra de participar desse festival no qual a curadoria é feita pelas próprias crianças.
URL:https://grupoesparrama.com.br/agenda/detetives-do-espavo/
END:VEVENT
BEGIN:VEVENT
DTSTART;TZID=America/Sao_Paulo:20250907T160000
DTEND;TZID=America/Sao_Paulo:20250907T170000
DTSTAMP:20260423T150708
CREATED:20251001T220220Z
LAST-MODIFIED:20251001T220220Z
UID:2019-1757260800-1757264400@grupoesparrama.com.br
SUMMARY:Cidade Brinquedo
DESCRIPTION:Sesc Bom Retiro\nEm “Cidade-Brinquedo”\, o Grupo Esparrama convida crianças e seus responsáveis a imaginarem uma cidade viva e cheia de brincadeiras\, em um percurso repleto de histórias\, músicas e convites à ação.
URL:https://grupoesparrama.com.br/agenda/cidade-brinquedo/
END:VEVENT
END:VCALENDAR